BEGIN:VCALENDAR
VERSION:2.0
PRODID:-//wp-events-plugin.com//7.2.3.1//EN
BEGIN:VEVENT
UID:72@fontenay-les-briis.fr
DTSTART;TZID=Europe/Paris:20180630T100000
DTEND;TZID=Europe/Paris:20180630T120000
DTSTAMP:20180528T194701Z
URL:https://www.fontenay-les-briis.fr/agenda/atelier-petites-pieuvres-de-n
 ouvelles-dates-2/
SUMMARY:Les Petites Pieuvres et le crochet pour les enfants
DESCRIPTION:\n\nPour les personnes qui souhaiteraient soutenir ce projet sa
 ns avoir le temps d’y participer\, sachez que vous pouvez financer une o
 u plusieurs pelotes de laine – 3€ pièce\, 2 pieuvres par pelote - pou
 r les « crocheteurs » bénévoles : les pieuvres seraient symboliquement
  remises en votre nom au service de néonatalogie de l’hôpital d'Arpajo
 n. Pelotes disponibles directement à la médiathèque\, n’hésitez pas 
 à venir vous renseigner !\n\n&nbsp\;
ATTACH;FMTTYPE=image/jpeg:https://www.fontenay-les-briis.fr/wp-content/upl
 oads/2018/01/Photo-de-pieuvres.jpg
CATEGORIES:Mediathèque
END:VEVENT
BEGIN:VTIMEZONE
TZID:Europe/Paris
X-LIC-LOCATION:Europe/Paris
BEGIN:DAYLIGHT
DTSTART:20180325T030000
TZOFFSETFROM:+0100
TZOFFSETTO:+0200
TZNAME:CEST
END:DAYLIGHT
END:VTIMEZONE
END:VCALENDAR