BEGIN:VCALENDAR
VERSION:2.0
PRODID:-//wp-events-plugin.com//7.2.3.1//EN
BEGIN:VEVENT
UID:419@fontenay-les-briis.fr
DTSTART;TZID=Europe/Paris:20200210T170000
DTEND;TZID=Europe/Paris:20200210T190000
DTSTAMP:20200209T234307Z
URL:https://www.fontenay-les-briis.fr/agenda/atelier-petites-pieuvres-sens
 ation-cocon-12/
SUMMARY:Atelier "Petites Pieuvres Sensation Cocon"
DESCRIPTION:
ATTACH;FMTTYPE=image/jpeg:https://www.fontenay-les-briis.fr/wp-content/upl
 oads/2018/04/Logo-mediatheque-rectangle.png
CATEGORIES:Mediathèque
END:VEVENT
BEGIN:VTIMEZONE
TZID:Europe/Paris
X-LIC-LOCATION:Europe/Paris
BEGIN:STANDARD
DTSTART:20191027T020000
TZOFFSETFROM:+0200
TZOFFSETTO:+0100
TZNAME:CET
END:STANDARD
END:VTIMEZONE
END:VCALENDAR