BEGIN:VCALENDAR
VERSION:2.0
PRODID:-//wp-events-plugin.com//7.2.3.1//EN
BEGIN:VEVENT
UID:1139@fontenay-les-briis.fr
DTSTART;TZID=Europe/Paris:20250123T200000
DTEND;TZID=Europe/Paris:20250123T223000
DTSTAMP:20250104T113151Z
URL:https://www.fontenay-les-briis.fr/agenda/cine-debat/
SUMMARY:Ciné Débat
DESCRIPTION:
ATTACH;FMTTYPE=image/jpeg:https://www.fontenay-les-briis.fr/wp-content/upl
 oads/affiche-theorie-boxeur-MJL-1.jpg
CATEGORIES:Associatif,Mille-Pertuis
LOCATION:Espace Anteia - Fondation JDB\, Fontenay-lès-Briis\, 91640\, Fran
 ce
X-APPLE-STRUCTURED-LOCATION;VALUE=URI;X-ADDRESS=Fontenay-lès-Briis\, 91640
 \, France;X-APPLE-RADIUS=100;X-TITLE=Espace Anteia - Fondation JDB:geo:0,0
END:VEVENT
BEGIN:VTIMEZONE
TZID:Europe/Paris
X-LIC-LOCATION:Europe/Paris
BEGIN:STANDARD
DTSTART:20241027T020000
TZOFFSETFROM:+0200
TZOFFSETTO:+0100
TZNAME:CET
END:STANDARD
END:VTIMEZONE
END:VCALENDAR