BEGIN:VCALENDAR
VERSION:2.0
PRODID:-//wp-events-plugin.com//7.2.3.1//EN
BEGIN:VEVENT
UID:178@fontenay-les-briis.fr
DTSTART;TZID=Europe/Paris:20180915T140000
DTEND;TZID=Europe/Paris:20180916T180000
DTSTAMP:20180903T161608Z
URL:https://www.fontenay-les-briis.fr/agenda/du-cheval-de-trait-a-nos-jour
 s-journees-du-patrimoine-a-gometz-la-ville/
SUMMARY:Du cheval de trait à nos jours - Journées du Patrimoine à Gometz
  la Ville
DESCRIPTION:
END:VEVENT
BEGIN:VTIMEZONE
TZID:Europe/Paris
X-LIC-LOCATION:Europe/Paris
BEGIN:DAYLIGHT
DTSTART:20180325T030000
TZOFFSETFROM:+0100
TZOFFSETTO:+0200
TZNAME:CEST
END:DAYLIGHT
END:VTIMEZONE
END:VCALENDAR