BEGIN:VCALENDAR
VERSION:2.0
PRODID:-//wp-events-plugin.com//7.2.3.1//EN
BEGIN:VEVENT
UID:520@fontenay-les-briis.fr
DTSTART;TZID=Europe/Paris;VALUE=DATE:20210904
DTEND;TZID=Europe/Paris;VALUE=DATE:20210905
DTSTAMP:20210405T140454Z
URL:https://www.fontenay-les-briis.fr/agenda/forum-des-associations-5/
SUMMARY:Forum des Associations
DESCRIPTION:
ATTACH;FMTTYPE=image/jpeg:https://www.fontenay-les-briis.fr/wp-content/upl
 oads/Affiche-Forum-rognée.jpg
CATEGORIES:Associatif
END:VEVENT
BEGIN:VTIMEZONE
TZID:Europe/Paris
X-LIC-LOCATION:Europe/Paris
BEGIN:DAYLIGHT
DTSTART:20210328T030000
TZOFFSETFROM:+0100
TZOFFSETTO:+0200
TZNAME:CEST
END:DAYLIGHT
END:VTIMEZONE
END:VCALENDAR