BEGIN:VCALENDAR
VERSION:2.0
PRODID:-//wp-events-plugin.com//7.2.3.1//EN
BEGIN:VEVENT
UID:339@fontenay-les-briis.fr
DTSTART;TZID=Europe/Paris:20191012T000000
DTEND;TZID=Europe/Paris:20191013T000000
DTSTAMP:20190814T225212Z
URL:https://www.fontenay-les-briis.fr/agenda/helium-15eme-parcours-dartist
 es/
SUMMARY:Hélium : 15ème parcours d'artistes
DESCRIPTION:
ATTACH;FMTTYPE=image/jpeg:https://www.fontenay-les-briis.fr/wp-content/upl
 oads/2019/08/Hélium.jpg
CATEGORIES:Associatif
END:VEVENT
BEGIN:VTIMEZONE
TZID:Europe/Paris
X-LIC-LOCATION:Europe/Paris
BEGIN:DAYLIGHT
DTSTART:20190331T030000
TZOFFSETFROM:+0100
TZOFFSETTO:+0200
TZNAME:CEST
END:DAYLIGHT
END:VTIMEZONE
END:VCALENDAR