BEGIN:VCALENDAR
VERSION:2.0
PRODID:-//wp-events-plugin.com//7.2.3.1//EN
BEGIN:VEVENT
UID:242@fontenay-les-briis.fr
DTSTART;TZID=Europe/Paris:20181217T163000
DTEND;TZID=Europe/Paris:20181221T183000
DTSTAMP:20181216T141428Z
URL:https://www.fontenay-les-briis.fr/agenda/marche-de-noel-du-periscolair
 e-3/
SUMMARY:Marché de Noël du Périscolaire
DESCRIPTION:
ATTACH;FMTTYPE=image/jpeg:https://www.fontenay-les-briis.fr/wp-content/upl
 oads/2017/11/periscolaire-1.png
CATEGORIES:Périscolaire
END:VEVENT
BEGIN:VTIMEZONE
TZID:Europe/Paris
X-LIC-LOCATION:Europe/Paris
BEGIN:STANDARD
DTSTART:20181028T020000
TZOFFSETFROM:+0200
TZOFFSETTO:+0100
TZNAME:CET
END:STANDARD
END:VTIMEZONE
END:VCALENDAR