BEGIN:VCALENDAR
VERSION:2.0
PRODID:-//wp-events-plugin.com//7.2.3.1//EN
BEGIN:VEVENT
UID:937@fontenay-les-briis.fr
DTSTART;TZID=Europe/Paris:20231028T093000
DTEND;TZID=Europe/Paris:20231028T123000
DTSTAMP:20231022T133013Z
URL:https://www.fontenay-les-briis.fr/agenda/repair-cafe-fablab-troc-de-pl
 antes/
SUMMARY:REPAIR CAFE & FABLAB & TROC DE PLANTES
DESCRIPTION:REPAIR CAFE &amp\; FABLAB &amp\; TROC DE PLANTES\nRDV samedi 28
  OCTOBRE entre 9h30 et 12h30 Salle Pavier\, au RdC du bâtiment des Marron
 niers\, allée de l’ancienne ferme école à Fontenay-lès-Briis.\n\nAu 
 Fablab\, nous fabriquerons des nichoirs à oiseaux en partenariat avec la 
 Terre des Amis du Hurepoix. sur inscription\n\nUn troc de plantes est orga
 nisé en parallèle du Repair Cafe.\n\nGratuit\, ouvert à tous\, sur insc
 ription auprès de le_neve_florence@hotmail.com\n\nLes Repair Cafe de l’
 association Mille-pertuis se déroulent en général\nle 4ème samedi du m
 ois\, voir le planning annuel dans la rubrique infos pratiques.
ATTACH;FMTTYPE=image/jpeg:https://www.fontenay-les-briis.fr/wp-content/upl
 oads/repair_cafe_logo.jpg
CATEGORIES:Associatif,Mille-Pertuis,Terre des Amis du Hurepoix
LOCATION:Pavier (Marronniers)\, 1 rue de la Ferme Ecole\, Fontenay les Brii
 s\, 91640\, France
X-APPLE-STRUCTURED-LOCATION;VALUE=URI;X-ADDRESS=1 rue de la Ferme Ecole\, F
 ontenay les Briis\, 91640\, France;X-APPLE-RADIUS=100;X-TITLE=Pavier (Marr
 onniers):geo:0,0
END:VEVENT
BEGIN:VTIMEZONE
TZID:Europe/Paris
X-LIC-LOCATION:Europe/Paris
BEGIN:DAYLIGHT
DTSTART:20230326T030000
TZOFFSETFROM:+0100
TZOFFSETTO:+0200
TZNAME:CEST
END:DAYLIGHT
END:VTIMEZONE
END:VCALENDAR