BEGIN:VCALENDAR
VERSION:2.0
PRODID:-//wp-events-plugin.com//7.2.3.1//EN
BEGIN:VEVENT
UID:586@fontenay-les-briis.fr
DTSTART;TZID=Europe/Paris:20220109T160000
DTEND;TZID=Europe/Paris:20220109T160000
DTSTAMP:20220128T093139Z
URL:https://www.fontenay-les-briis.fr/agenda/voeux-du-cdf/
SUMMARY:Vœux du CDF - ANNULE
DESCRIPTION:
ATTACH;FMTTYPE=image/jpeg:https://www.fontenay-les-briis.fr/wp-content/upl
 oads/2020/03/CDF-ter.jpg
CATEGORIES:Associatif,CDF
LOCATION:Arrière de l'église et de la Mairie\, 1 place de l'église\, Fon
 tenay lès Briis\, 91640\, France
X-APPLE-STRUCTURED-LOCATION;VALUE=URI;X-ADDRESS=1 place de l'église\, Font
 enay lès Briis\, 91640\, France;X-APPLE-RADIUS=100;X-TITLE=Arrière de l'
 église et de la Mairie:geo:0,0
END:VEVENT
BEGIN:VTIMEZONE
TZID:Europe/Paris
X-LIC-LOCATION:Europe/Paris
BEGIN:STANDARD
DTSTART:20211031T020000
TZOFFSETFROM:+0200
TZOFFSETTO:+0100
TZNAME:CET
END:STANDARD
END:VTIMEZONE
END:VCALENDAR